BEGIN:VCALENDAR
VERSION:2.0
PRODID:-//TSV Bad Griesbach - ECPv5.7.1//NONSGML v1.0//EN
CALSCALE:GREGORIAN
METHOD:PUBLISH
X-WR-CALNAME:TSV Bad Griesbach
X-ORIGINAL-URL:https://www.tsvbadgriesbach.de
X-WR-CALDESC:Veranstaltungen für TSV Bad Griesbach
BEGIN:VTIMEZONE
TZID:Europe/Berlin
BEGIN:DAYLIGHT
TZOFFSETFROM:+0100
TZOFFSETTO:+0200
TZNAME:CEST
DTSTART:20210328T010000
END:DAYLIGHT
BEGIN:STANDARD
TZOFFSETFROM:+0200
TZOFFSETTO:+0100
TZNAME:CET
DTSTART:20211031T010000
END:STANDARD
END:VTIMEZONE
BEGIN:VEVENT
DTSTART;TZID=Europe/Berlin:20211120T180000
DTEND;TZID=Europe/Berlin:20211120T210000
DTSTAMP:20260421T173845
CREATED:20211025T141341Z
LAST-MODIFIED:20211025T141343Z
UID:5219-1637431200-1637442000@www.tsvbadgriesbach.de
SUMMARY:Herren II gegen DJK SV e.V. Hartkirchen
DESCRIPTION:
URL:https://www.tsvbadgriesbach.de/event/herren-ii-gegen-djk-sv-e-v-hartkirchen/
LOCATION:Eineinhalbfachturnhalle Bad Griesbach\, Seilerberg 18\, Bad Griesbach\, Bayern\, 94086\, Deutschland
CATEGORIES:Tischtennis
END:VEVENT
END:VCALENDAR